BEGIN:VCALENDAR
VERSION:2.0
PRODID:Events Booking
BEGIN:VEVENT
UID:69e8989122922
SUMMARY:DB Javea 2020 # Rego Miramar
DESCRIPTION:COMBINED MADRID/ COSTA BLANCA H3 JAVEA WEEKEND
DTSTART:20200228T000000Z
DTEND:20200228T000000Z
DTSTAMP:20260422T094449Z
ORGANIZER;CN=Javea hashers:MAILTO:hhh@costablancahhh.com
END:VEVENT
END:VCALENDAR