BEGIN:VCALENDAR
VERSION:2.0
PRODID:Events Booking
BEGIN:VEVENT
UID:69e89b6fd748a
SUMMARY:DB #198ish - The Tinsel-Bernia Walk
DESCRIPTION:This hash virgin trail must be one of the most beautiful ones i
 n the area.
DTSTART:20231203T113000Z
DTSTAMP:20260422T095703Z
ORGANIZER;CN=Javea hashers:MAILTO:hhh@costablancahhh.com
END:VEVENT
END:VCALENDAR