BEGIN:VCALENDAR
VERSION:2.0
PRODID:Events Booking
BEGIN:VEVENT
UID:69e899b48f16f
SUMMARY:DB #196ish Kimera Pub Crawl
DESCRIPTION:DB #196ish - Kimera Pub Crawl
DTSTART:20230730T111500Z
DTSTAMP:20260422T094940Z
ORGANIZER;CN=Javea hashers:MAILTO:hhh@costablancahhh.com
END:VEVENT
END:VCALENDAR