BEGIN:VCALENDAR
VERSION:2.0
PRODID:Events Booking
BEGIN:VEVENT
UID:69eb92203ba5a
SUMMARY:DB #224ish - The Orienteering Hash
DESCRIPTION:DB #224ish - The Orienteering Hash
 Where \"Orienteering\" mee
 ts \"Oh god\, where am I?\"
DTSTART:20260426T153000Z
DTSTAMP:20260415T102749Z
ORGANIZER;CN=Javea hashers:MAILTO:hhh@costablancahhh.com
END:VEVENT
END:VCALENDAR